BEGIN:VCALENDAR
VERSION:2.0
PRODID:-//PeaceAnimals - ECPv6.15.20//NONSGML v1.0//EN
CALSCALE:GREGORIAN
METHOD:PUBLISH
X-WR-CALNAME:PeaceAnimals
X-ORIGINAL-URL:https://peaceanimals.org
X-WR-CALDESC:Events for PeaceAnimals
REFRESH-INTERVAL;VALUE=DURATION:PT1H
X-Robots-Tag:noindex
X-PUBLISHED-TTL:PT1H
BEGIN:VTIMEZONE
TZID:America/Mexico_City
BEGIN:STANDARD
TZOFFSETFROM:-0600
TZOFFSETTO:-0600
TZNAME:CST
DTSTART:20240101T000000
END:STANDARD
END:VTIMEZONE
BEGIN:VEVENT
DTSTART;VALUE=DATE:20250422
DTEND;VALUE=DATE:20250426
DTSTAMP:20260419T192503
CREATED:20250217T160649Z
LAST-MODIFIED:20250407T181648Z
UID:2734-1745280000-1745625599@peaceanimals.org
SUMMARY:Valle Dorado
DESCRIPTION:
URL:https://peaceanimals.org/event/valle-dorado/
CATEGORIES:Spay & Neuter Clinics
END:VEVENT
BEGIN:VEVENT
DTSTART;VALUE=DATE:20250430
DTEND;VALUE=DATE:20250504
DTSTAMP:20260419T192503
CREATED:20250318T162659Z
LAST-MODIFIED:20250318T162659Z
UID:2811-1745971200-1746316799@peaceanimals.org
SUMMARY:Jarretaderas
DESCRIPTION:
URL:https://peaceanimals.org/event/jarretaderas/
CATEGORIES:Spay & Neuter Clinics
END:VEVENT
END:VCALENDAR