BEGIN:VCALENDAR
VERSION:2.0
PRODID:-//PeaceAnimals - ECPv6.15.20//NONSGML v1.0//EN
CALSCALE:GREGORIAN
METHOD:PUBLISH
X-ORIGINAL-URL:https://peaceanimals.org
X-WR-CALDESC:Events for PeaceAnimals
REFRESH-INTERVAL;VALUE=DURATION:PT1H
X-Robots-Tag:noindex
X-PUBLISHED-TTL:PT1H
BEGIN:VTIMEZONE
TZID:America/Mexico_City
BEGIN:STANDARD
TZOFFSETFROM:-0600
TZOFFSETTO:-0600
TZNAME:CST
DTSTART:20240101T000000
END:STANDARD
END:VTIMEZONE
BEGIN:VEVENT
DTSTART;VALUE=DATE:20250430
DTEND;VALUE=DATE:20250504
DTSTAMP:20260419T175550
CREATED:20250318T162659Z
LAST-MODIFIED:20250318T162659Z
UID:2811-1745971200-1746316799@peaceanimals.org
SUMMARY:Jarretaderas
DESCRIPTION:
URL:https://peaceanimals.org/event/jarretaderas/
CATEGORIES:Spay & Neuter Clinics
END:VEVENT
BEGIN:VEVENT
DTSTART;VALUE=DATE:20250507
DTEND;VALUE=DATE:20250511
DTSTAMP:20260419T175550
CREATED:20250311T150755Z
LAST-MODIFIED:20250311T150755Z
UID:2789-1746576000-1746921599@peaceanimals.org
SUMMARY:Valle Esmeralda
DESCRIPTION:
URL:https://peaceanimals.org/event/valle-esmeralda/
CATEGORIES:Spay & Neuter Clinics
END:VEVENT
BEGIN:VEVENT
DTSTART;VALUE=DATE:20250514
DTEND;VALUE=DATE:20250518
DTSTAMP:20260419T175550
CREATED:20250305T151755Z
LAST-MODIFIED:20250310T152155Z
UID:2776-1747180800-1747526399@peaceanimals.org
SUMMARY:Altavela
DESCRIPTION:
URL:https://peaceanimals.org/event/altavela-2/
CATEGORIES:Spay & Neuter Clinics
END:VEVENT
BEGIN:VEVENT
DTSTART;VALUE=DATE:20250521
DTEND;VALUE=DATE:20250525
DTSTAMP:20260419T175550
CREATED:20250418T151631Z
LAST-MODIFIED:20250418T151631Z
UID:2883-1747785600-1748131199@peaceanimals.org
SUMMARY:Coapinole
DESCRIPTION:
URL:https://peaceanimals.org/event/coapinole-2/
CATEGORIES:Spay & Neuter Clinics
END:VEVENT
END:VCALENDAR