BEGIN:VCALENDAR
VERSION:2.0
PRODID:-//PeaceAnimals - ECPv6.15.20//NONSGML v1.0//EN
CALSCALE:GREGORIAN
METHOD:PUBLISH
X-ORIGINAL-URL:https://peaceanimals.org
X-WR-CALDESC:Events for PeaceAnimals
REFRESH-INTERVAL;VALUE=DURATION:PT1H
X-Robots-Tag:noindex
X-PUBLISHED-TTL:PT1H
BEGIN:VTIMEZONE
TZID:America/Mexico_City
BEGIN:STANDARD
TZOFFSETFROM:-0600
TZOFFSETTO:-0600
TZNAME:CST
DTSTART:20240101T000000
END:STANDARD
END:VTIMEZONE
BEGIN:VEVENT
DTSTART;VALUE=DATE:20251018
DTEND;VALUE=DATE:20251020
DTSTAMP:20260419T112623
CREATED:20250627T173806Z
LAST-MODIFIED:20251001T171255Z
UID:3130-1760745600-1760918399@peaceanimals.org
SUMMARY:La Cruz
DESCRIPTION:
URL:https://peaceanimals.org/event/la-cruz/
CATEGORIES:Spay & Neuter Clinics
END:VEVENT
BEGIN:VEVENT
DTSTART;VALUE=DATE:20251022
DTEND;VALUE=DATE:20251026
DTSTAMP:20260419T112623
CREATED:20250910T133838Z
LAST-MODIFIED:20250910T133838Z
UID:3235-1761091200-1761436799@peaceanimals.org
SUMMARY:Ixtapa
DESCRIPTION:
URL:https://peaceanimals.org/event/ixtapa-3/
CATEGORIES:Spay & Neuter Clinics
END:VEVENT
END:VCALENDAR