BEGIN:VCALENDAR
VERSION:2.0
PRODID:-//PeaceAnimals - ECPv6.15.20//NONSGML v1.0//EN
CALSCALE:GREGORIAN
METHOD:PUBLISH
X-ORIGINAL-URL:https://peaceanimals.org
X-WR-CALDESC:Events for PeaceAnimals
REFRESH-INTERVAL;VALUE=DURATION:PT1H
X-Robots-Tag:noindex
X-PUBLISHED-TTL:PT1H
BEGIN:VTIMEZONE
TZID:America/Mexico_City
BEGIN:STANDARD
TZOFFSETFROM:-0600
TZOFFSETTO:-0600
TZNAME:CST
DTSTART:20240101T000000
END:STANDARD
END:VTIMEZONE
BEGIN:VEVENT
DTSTART;VALUE=DATE:20251210
DTEND;VALUE=DATE:20251213
DTSTAMP:20260419T084114
CREATED:20251106T115309Z
LAST-MODIFIED:20251125T203329Z
UID:3331-1765324800-1765583999@peaceanimals.org
SUMMARY:Los Sauces
DESCRIPTION:
URL:https://peaceanimals.org/event/los-sauces/
CATEGORIES:Spay & Neuter Clinics
END:VEVENT
BEGIN:VEVENT
DTSTART;VALUE=DATE:20251217
DTEND;VALUE=DATE:20251221
DTSTAMP:20260419T084114
CREATED:20251106T115451Z
LAST-MODIFIED:20251106T115451Z
UID:3333-1765929600-1766275199@peaceanimals.org
SUMMARY:Ixtapa
DESCRIPTION:
URL:https://peaceanimals.org/event/ixtapa-4/
CATEGORIES:Spay & Neuter Clinics
END:VEVENT
END:VCALENDAR