BEGIN:VCALENDAR
VERSION:2.0
PRODID:-//PeaceAnimals - ECPv6.15.20//NONSGML v1.0//EN
CALSCALE:GREGORIAN
METHOD:PUBLISH
X-WR-CALNAME:PeaceAnimals
X-ORIGINAL-URL:https://peaceanimals.org
X-WR-CALDESC:Events for PeaceAnimals
REFRESH-INTERVAL;VALUE=DURATION:PT1H
X-Robots-Tag:noindex
X-PUBLISHED-TTL:PT1H
BEGIN:VTIMEZONE
TZID:America/Mexico_City
BEGIN:STANDARD
TZOFFSETFROM:-0600
TZOFFSETTO:-0600
TZNAME:CST
DTSTART:20250101T000000
END:STANDARD
END:VTIMEZONE
BEGIN:VEVENT
DTSTART;VALUE=DATE:20260114
DTEND;VALUE=DATE:20260118
DTSTAMP:20260419T071108
CREATED:20260108T152334Z
LAST-MODIFIED:20260108T152334Z
UID:3546-1768348800-1768694399@peaceanimals.org
SUMMARY:Alta Vela
DESCRIPTION:
URL:https://peaceanimals.org/event/alta-vela/
CATEGORIES:Spay & Neuter Clinics
END:VEVENT
BEGIN:VEVENT
DTSTART;VALUE=DATE:20260128
DTEND;VALUE=DATE:20260201
DTSTAMP:20260419T071108
CREATED:20260122T152338Z
LAST-MODIFIED:20260122T152338Z
UID:3605-1769558400-1769903999@peaceanimals.org
SUMMARY:Mezcales
DESCRIPTION:
URL:https://peaceanimals.org/event/mezcales/
CATEGORIES:Spay & Neuter Clinics
END:VEVENT
END:VCALENDAR